BEGIN:VCALENDAR
VERSION:2.0
PRODID:-//ChamberMaster//Event Calendar 2.0//EN
METHOD:PUBLISH
X-PUBLISHED-TTL:P3D
REFRESH-INTERVAL:P3D
CALSCALE:GREGORIAN
BEGIN:VEVENT
DTSTART:20260918T220000Z
DTEND:20260919T030000Z
X-MICROSOFT-CDO-ALLDAYEVENT:FALSE
SUMMARY:Grow Clinton Oktoberfest 2026
DESCRIPTION:Join us for a festive evening at our Oktoberfest celebration on September 18th at 5:30 PM at the Copper Mill! Enjoy great company\, a lively atmosphere\, and authentic German flair as the EuroExpress Band brings the energy with traditional German polka music. Savor delicious German specialties and refreshing German beer as you celebrate\, connect\, and have some fun. Guests are encouraged to join in the spirit by wearing traditional German attire Lederhosen for men and Dirndl for women. Don't miss out!
X-ALT-DESC;FMTTYPE=text/html:Join us for a festive evening at our Oktoberfest celebration on September 18th at 5:30 PM at the Copper Mill! Enjoy great company\, a lively atmosphere\, and authentic German flair as the EuroExpress Band brings the energy with traditional German polka music. Savor delicious German specialties and refreshing German beer as you celebrate\, connect\, and have some fun. Guests are encouraged to join in the spirit by wearing traditional German attire&mdash\;Lederhosen for men and Dirndl for women. Don&rsquo\;t miss out!&nbsp\;
LOCATION:The Copper Mill provides the perfect setting for our Oktoberfest celebration\, combining rustic charm with a warm\, welcoming atmosphere. With its spacious layout and unique character\, it's an ideal place to gather\, enjoy live music\, and celebrate with friends and the community. Whether you're inside enjoying the cozy ambiance or mingling outdoors\, the Copper Mill offers a memorable backdrop for an authentic Oktoberfest experience.
UID:e.1524.42171
SEQUENCE:3
DTSTAMP:20260423T203530Z
URL:https://members.growclinton.com/events/details/grow-clinton-oktoberfest-2026-42171
END:VEVENT

END:VCALENDAR
